View In:
ArcGIS JavaScript
ArcGIS Online Map Viewer
ArcGIS Earth
Service Description: The City of Kirkland 1965 Orthophotography Imagery. These images were collected from the King County Road Services Map Vault in March 2023.
Name: Orthos_1965
Description: The City of Kirkland 1965 Orthophotography Imagery. These images were collected from the King County Road Services Map Vault in March 2023.
Single Fused Map Cache: false
Extent:
XMin: 1286792.390603015
YMin: 233375.30550198656
XMax: 1318329.967227975
YMax: 270944.29848014656
Spatial Reference: 102748
(2285)
LatestVCSWkid(0)
Initial Extent:
XMin: 1286792.390603015
YMin: 233375.30550198656
XMax: 1318329.967227975
YMax: 270944.29848014656
Spatial Reference: 102748
(2285)
LatestVCSWkid(0)
Full Extent:
XMin: 1286792.390603015
YMin: 233375.30550198656
XMax: 1318329.967227975
YMax: 270944.29848014656
Spatial Reference: 102748
(2285)
LatestVCSWkid(0)
Pixel Size X: 1.3197847599999974
Pixel Size Y: 1.3197847600000003
Band Count: 3
Pixel Type: U8
RasterFunction Infos: {"rasterFunctionInfos": [{
"name": "None",
"description": "Make a Raster or Raster Dataset into a Function Raster Dataset.",
"help": ""
}]}
Mensuration Capabilities: None
Inspection Capabilities:
Has Histograms: true
Has Colormap: false
Has Multi Dimensions : false
Rendering Rule:
Min Scale: 0
Max Scale: 0
Copyright Text: King County Road Services Division
Service Data Type: esriImageServiceDataTypeRGB
Min Values: 0, 0, 0
Max Values: 254, 254, 254
Mean Values: 128.01789993282355, 128.01789993282355, 128.01789993282355
Standard Deviation Values: 55.351166630268516, 55.351166630268516, 55.351166630268516
Object ID Field: OBJECTID
Fields:
-
OBJECTID
(
type: esriFieldTypeOID, alias: OBJECTID
)
-
Name
(
type: esriFieldTypeString, alias: Name, length: 200
)
-
MinPS
(
type: esriFieldTypeDouble, alias: MinPS
)
-
MaxPS
(
type: esriFieldTypeDouble, alias: MaxPS
)
-
LowPS
(
type: esriFieldTypeDouble, alias: LowPS
)
-
HighPS
(
type: esriFieldTypeDouble, alias: HighPS
)
-
Category
(
type: esriFieldTypeInteger, alias: Category
, Coded Values:
[0: Unknown]
, [1: Primary]
, [2: Overview]
, ...5 more...
)
-
Tag
(
type: esriFieldTypeString, alias: Tag, length: 100
)
-
GroupName
(
type: esriFieldTypeString, alias: GroupName, length: 100
)
-
ProductName
(
type: esriFieldTypeString, alias: ProductName, length: 100
)
-
CenterX
(
type: esriFieldTypeDouble, alias: CenterX
)
-
CenterY
(
type: esriFieldTypeDouble, alias: CenterY
)
-
ZOrder
(
type: esriFieldTypeInteger, alias: ZOrder
)
-
Shape
(
type: esriFieldTypeGeometry, alias: Shape
)
-
Shape.STArea()
(
type: esriFieldTypeDouble, alias: Shape.STArea()
)
-
Shape.STLength()
(
type: esriFieldTypeDouble, alias: Shape.STLength()
)
Default Mosaic Method: Northwest
Allowed Mosaic Methods: NorthWest,Center,LockRaster,ByAttribute,Nadir,Viewpoint,Seamline,None
SortField:
SortValue: null
Mosaic Operator: First
Default Compression Quality: 75
Default Resampling Method: Bilinear
Max Record Count: 1000
Max Image Height: 4100
Max Image Width: 15000
Max Download Image Count: 20
Max Mosaic Image Count: 20
Allow Raster Function: true
Allow Copy: true
Allow Analysis: true
Allow Compute TiePoints: false
Supports Statistics: true
Supports Advanced Queries: true
Use StandardizedQueries: true
Raster Type Infos:
Name: Raster Dataset
Description: Supports all ArcGIS Raster Datasets
Help:
Has Raster Attribute Table: false
Edit Fields Info: null
Ownership Based AccessControl For Rasters: null
Child Resources:
Info
Histograms
Statistics
Key Properties
Legend
Raster Function Infos
Supported Operations:
Export Image
Query
Identify
Compute Histograms
Compute Statistics Histograms
Get Samples
Compute Class Statistics
Query GPS Info
Find Images
Image to Map
Map to Image
Measure from Image
Image to Map Multiray
Query Boundary
Compute Pixel Location
Compute Angles
Validate
Project