{ "currentVersion": 11.3, "serviceDescription": "
The City of Kirkland's 2018 Ortho Photos.<\/SPAN><\/P><\/DIV><\/DIV><\/DIV>",
"name": "Orthos_2018_Basemap",
"description": " The City of Kirkland's 2018 Ortho Photos.<\/SPAN><\/P><\/DIV><\/DIV><\/DIV>",
"extent": {
"xmin": 1287000.0728972128,
"ymin": 234000.07060165209,
"xmax": 1320000.0728972128,
"ymax": 276000.0706016521,
"spatialReference": {
"wkid": 102748,
"latestWkid": 2285
}
},
"initialExtent": {
"xmin": 1287000.0728972128,
"ymin": 234000.07060165209,
"xmax": 1320000.0728972128,
"ymax": 276000.0706016521,
"spatialReference": {
"wkid": 102748,
"latestWkid": 2285
}
},
"fullExtent": {
"xmin": 1287000.0728972128,
"ymin": 234000.07060165209,
"xmax": 1320000.0728972128,
"ymax": 276000.0706016521,
"spatialReference": {
"wkid": 102748,
"latestWkid": 2285
}
},
"sortableFields": "",
"bandCount": 3,
"pixelType": "U8",
"minValues": [
6,
19,
26
],
"maxValues": [
255,
255,
255
],
"meanValues": [
116.00552615990873,
124.02428747992063,
122.63316749632897
],
"stdvValues": [
48.87695230244177,
42.93534400348767,
39.038118511578176
],
"hasMultidimensions": false,
"pixelSizeX": 0.25,
"pixelSizeY": 0.25,
"meanPixelSize": 0.07620015240030481,
"datasetFormat": "AMD",
"uncompressedSize": 66528000000,
"blockWidth": 2048,
"blockHeight": 256,
"compressionType": "None",
"bandNames": [
"Band_1",
"Band_2",
"Band_3"
],
"allowCopy": true,
"allowAnalysis": true,
"itemAccess": false,
"inspectionCapabilities": "",
"minPixelSize": 0.21701388888888887,
"maxPixelSize": 217.01388888888889,
"copyrightText": "",
"serviceDataType": "esriImageServiceDataTypeRGB",
"serviceSourceType": "esriImageServiceSourceTypeMosaicDataset",
"objectIdField": "OBJECTID",
"fields": [
{
"name": "OBJECTID",
"type": "esriFieldTypeOID",
"alias": "OBJECTID",
"domain": null
},
{
"name": "Name",
"type": "esriFieldTypeString",
"alias": "Name",
"domain": null,
"length": 200
},
{
"name": "MinPS",
"type": "esriFieldTypeDouble",
"alias": "MinPS",
"domain": null
},
{
"name": "MaxPS",
"type": "esriFieldTypeDouble",
"alias": "MaxPS",
"domain": null
},
{
"name": "LowPS",
"type": "esriFieldTypeDouble",
"alias": "LowPS",
"domain": null
},
{
"name": "HighPS",
"type": "esriFieldTypeDouble",
"alias": "HighPS",
"domain": null
},
{
"name": "Category",
"type": "esriFieldTypeInteger",
"alias": "Category",
"domain": {
"type": "codedValue",
"name": "MosaicCatalogItemCategoryDomain",
"description": "Catalog item categories.",
"codedValues": [
{
"name": "Unknown",
"code": 0
},
{
"name": "Primary",
"code": 1
},
{
"name": "Overview",
"code": 2
},
{
"name": "Unprocessed Overview",
"code": 3
},
{
"name": "Partial Overview",
"code": 4
},
{
"name": "Uploaded",
"code": 253
},
{
"name": "Incomplete",
"code": 254
},
{
"name": "Custom",
"code": 255
}
],
"mergePolicy": "esriMPTDefaultValue",
"splitPolicy": "esriSPTDefaultValue"
}
},
{
"name": "Tag",
"type": "esriFieldTypeString",
"alias": "Tag",
"domain": null,
"length": 100
},
{
"name": "GroupName",
"type": "esriFieldTypeString",
"alias": "GroupName",
"domain": null,
"length": 100
},
{
"name": "ProductName",
"type": "esriFieldTypeString",
"alias": "ProductName",
"domain": null,
"length": 100
},
{
"name": "CenterX",
"type": "esriFieldTypeDouble",
"alias": "CenterX",
"domain": null
},
{
"name": "CenterY",
"type": "esriFieldTypeDouble",
"alias": "CenterY",
"domain": null
},
{
"name": "ZOrder",
"type": "esriFieldTypeInteger",
"alias": "ZOrder",
"domain": null
},
{
"name": "Shape",
"type": "esriFieldTypeGeometry",
"alias": "Shape",
"domain": null
},
{
"name": "Shape.STArea()",
"type": "esriFieldTypeDouble",
"alias": "Shape.STArea()",
"domain": null
},
{
"name": "Shape.STLength()",
"type": "esriFieldTypeDouble",
"alias": "Shape.STLength()",
"domain": null
}
],
"capabilities": "Image,Metadata,Catalog",
"defaultMosaicMethod": "Northwest",
"allowedMosaicMethods": "NorthWest,Center,LockRaster,ByAttribute,Nadir,Viewpoint,Seamline,None",
"sortField": "",
"sortValue": null,
"sortAscending": true,
"mosaicOperator": "First",
"maxDownloadSizeLimit": 2048,
"defaultCompressionQuality": 75,
"defaultResamplingMethod": "Bilinear",
"maxImageHeight": 4100,
"maxImageWidth": 15000,
"maxRecordCount": 1000,
"maxDownloadImageCount": 20,
"maxMosaicImageCount": 50,
"singleFusedMapCache": true,
"tileInfo": {
"rows": 256,
"cols": 256,
"dpi": 96,
"format": "MIXED",
"compressionQuality": 75,
"origin": {
"x": -117104300,
"y": 137949800
},
"spatialReference": {
"wkid": 102748,
"latestWkid": 2285
},
"lods": [
{
"level": 0,
"resolution": 217.01388888888889,
"scale": 250000
},
{
"level": 1,
"resolution": 108.50694444444444,
"scale": 125000
},
{
"level": 2,
"resolution": 55.55555555555555,
"scale": 64000
},
{
"level": 3,
"resolution": 27.777777777777775,
"scale": 32000
},
{
"level": 4,
"resolution": 13.888888888888888,
"scale": 16000
},
{
"level": 5,
"resolution": 6.944444444444444,
"scale": 8000
},
{
"level": 6,
"resolution": 3.472222222222222,
"scale": 4000
},
{
"level": 7,
"resolution": 1.736111111111111,
"scale": 2000
},
{
"level": 8,
"resolution": 0.8680555555555555,
"scale": 1000
},
{
"level": 9,
"resolution": 0.43402777777777773,
"scale": 500
},
{
"level": 10,
"resolution": 0.21701388888888887,
"scale": 250
},
{
"level": 11,
"resolution": 0.10850694444444443,
"scale": 125
},
{
"level": 12,
"resolution": 0.056423611111111105,
"scale": 65
}
]
},
"storageInfo": {
"storageFormat": "esriMapCacheStorageModeCompactV2",
"packetSize": 128
},
"cacheType": "Map",
"allowRasterFunction": true,
"rasterFunctionInfos": [
{
"name": "None",
"description": "A No-Op Function.",
"help": ""
}
],
"rasterTypeInfos": [
{
"name": "Raster Dataset",
"description": "Supports all ArcGIS Raster Datasets",
"help": ""
}
],
"mensurationCapabilities": "None",
"hasHistograms": true,
"hasColormap": false,
"hasRasterAttributeTable": false,
"minScale": 250000,
"maxScale": 250,
"exportTilesAllowed": false,
"supportsStatistics": true,
"supportsAdvancedQueries": true,
"editFieldsInfo": null,
"ownershipBasedAccessControlForRasters": null,
"allowComputeTiePoints": false,
"useStandardizedQueries": true,
"advancedQueryCapabilities": {
"useStandardizedQueries": true,
"supportsStatistics": true,
"supportsOrderBy": true,
"supportsDistinct": true,
"supportsPagination": true
},
"spatialReference": {
"wkid": 102748,
"latestWkid": 2285
}
}