{ "currentVersion": 11.3, "cimVersion": "3.3.0", "serviceDescription": "City of Kirkland Gray Canvas Basemap.<\/span>", "mapName": "Kirkland Gray Scale Basemap", "description": "

Kirkland Gray Canvas Basemap<\/SPAN><\/P><\/DIV><\/DIV><\/DIV>", "copyrightText": "", "supportsDynamicLayers": true, "layers": [ { "id": 0, "name": "City Limits", "parentLayerId": -1, "defaultVisibility": true, "subLayerIds": null, "minScale": 262144, "maxScale": 0, "type": "Feature Layer", "geometryType": "esriGeometryPolyline", "supportsDynamicLegends": true }, { "id": 1, "name": "Parcels", "parentLayerId": -1, "defaultVisibility": true, "subLayerIds": null, "minScale": 4096, "maxScale": 0, "type": "Feature Layer", "geometryType": "esriGeometryPolygon", "supportsDynamicLegends": true }, { "id": 2, "name": "Cross Kirkland Corridor", "parentLayerId": -1, "defaultVisibility": true, "subLayerIds": null, "minScale": 131072, "maxScale": 0, "type": "Feature Layer", "geometryType": "esriGeometryPolyline", "supportsDynamicLegends": true }, { "id": 3, "name": "Regional Rail Corridor", "parentLayerId": -1, "defaultVisibility": true, "subLayerIds": null, "minScale": 131072, "maxScale": 0, "type": "Feature Layer", "geometryType": "esriGeometryPolyline", "supportsDynamicLegends": true }, { "id": 4, "name": "Trails", "parentLayerId": -1, "defaultVisibility": true, "subLayerIds": null, "minScale": 8192, "maxScale": 0, "type": "Feature Layer", "geometryType": "esriGeometryPolyline", "supportsDynamicLegends": true }, { "id": 5, "name": "Major Street Labels", "parentLayerId": -1, "defaultVisibility": true, "subLayerIds": null, "minScale": 65536, "maxScale": 0, "type": "Feature Layer", "geometryType": "esriGeometryPolyline", "supportsDynamicLegends": true }, { "id": 6, "name": "Minor Street Labels", "parentLayerId": -1, "defaultVisibility": true, "subLayerIds": null, "minScale": 8192, "maxScale": 0, "type": "Feature Layer", "geometryType": "esriGeometryPolyline", "supportsDynamicLegends": true }, { "id": 7, "name": "TRN_imp_surface", "parentLayerId": -1, "defaultVisibility": true, "subLayerIds": null, "minScale": 2048, "maxScale": 0, "type": "Feature Layer", "geometryType": "esriGeometryPolygon", "supportsDynamicLegends": true }, { "id": 8, "name": "Highways", "parentLayerId": -1, "defaultVisibility": true, "subLayerIds": null, "minScale": 262144, "maxScale": 2048, "type": "Feature Layer", "geometryType": "esriGeometryPolyline", "supportsDynamicLegends": true }, { "id": 9, "name": "Regional Highways", "parentLayerId": -1, "defaultVisibility": true, "subLayerIds": null, "minScale": 262144, "maxScale": 2048, "type": "Feature Layer", "geometryType": "esriGeometryPolyline", "supportsDynamicLegends": true }, { "id": 10, "name": "Major Streets", "parentLayerId": -1, "defaultVisibility": true, "subLayerIds": null, "minScale": 131072, "maxScale": 2048, "type": "Feature Layer", "geometryType": "esriGeometryPolyline", "supportsDynamicLegends": true }, { "id": 11, "name": "Minor Streets", "parentLayerId": -1, "defaultVisibility": true, "subLayerIds": null, "minScale": 32768, "maxScale": 2048, "type": "Feature Layer", "geometryType": "esriGeometryPolyline", "supportsDynamicLegends": true }, { "id": 12, "name": "Regional Major Streets", "parentLayerId": -1, "defaultVisibility": true, "subLayerIds": null, "minScale": 131072, "maxScale": 0, "type": "Feature Layer", "geometryType": "esriGeometryPolyline", "supportsDynamicLegends": true }, { "id": 13, "name": "Regional Minor Streets", "parentLayerId": -1, "defaultVisibility": true, "subLayerIds": null, "minScale": 32768, "maxScale": 0, "type": "Feature Layer", "geometryType": "esriGeometryPolyline", "supportsDynamicLegends": true }, { "id": 14, "name": "Docks", "parentLayerId": -1, "defaultVisibility": true, "subLayerIds": null, "minScale": 16384, "maxScale": 0, "type": "Feature Layer", "geometryType": "esriGeometryPolygon", "supportsDynamicLegends": true }, { "id": 15, "name": "Buildings", "parentLayerId": -1, "defaultVisibility": true, "subLayerIds": null, "minScale": 8192, "maxScale": 0, "type": "Feature Layer", "geometryType": "esriGeometryPolygon", "supportsDynamicLegends": true }, { "id": 16, "name": "Schools", "parentLayerId": -1, "defaultVisibility": true, "subLayerIds": null, "minScale": 131072, "maxScale": 0, "type": "Feature Layer", "geometryType": "esriGeometryPolygon", "supportsDynamicLegends": true }, { "id": 17, "name": "Streams", "parentLayerId": -1, "defaultVisibility": true, "subLayerIds": null, "minScale": 16384, "maxScale": 0, "type": "Feature Layer", "geometryType": "esriGeometryPolyline", "supportsDynamicLegends": true }, { "id": 18, "name": "Regional Waterbodies", "parentLayerId": -1, "defaultVisibility": true, "subLayerIds": null, "minScale": 0, "maxScale": 0, "type": "Feature Layer", "geometryType": "esriGeometryPolygon", "supportsDynamicLegends": true }, { "id": 19, "name": "Lakes", "parentLayerId": -1, "defaultVisibility": true, "subLayerIds": null, "minScale": 262144, "maxScale": 0, "type": "Feature Layer", "geometryType": "esriGeometryPolygon", "supportsDynamicLegends": true }, { "id": 20, "name": "Parks", "parentLayerId": -1, "defaultVisibility": true, "subLayerIds": null, "minScale": 131072, "maxScale": 0, "type": "Feature Layer", "geometryType": "esriGeometryPolygon", "supportsDynamicLegends": true }, { "id": 21, "name": "City Polygon ", "parentLayerId": -1, "defaultVisibility": true, "subLayerIds": null, "minScale": 262144, "maxScale": 0, "type": "Feature Layer", "geometryType": "esriGeometryPolygon", "supportsDynamicLegends": true }, { "id": 22, "name": "Adjacent City Boundaries", "parentLayerId": -1, "defaultVisibility": true, "subLayerIds": null, "minScale": 262144, "maxScale": 4096, "type": "Feature Layer", "geometryType": "esriGeometryPolygon", "supportsDynamicLegends": true } ], "tables": [], "spatialReference": { "wkid": 102748, "latestWkid": 2285, "xyTolerance": 2.7161954034031303E-5, "zTolerance": 2, "mTolerance": 2, "falseX": -1.1710429999999933E8, "falseY": -9.95395999999976E7, "xyUnits": 294529.61999629234, "falseZ": 0, "zUnits": 1, "falseM": 0, "mUnits": 1 }, "singleFusedMapCache": true, "tileInfo": { "rows": 256, "cols": 256, "dpi": 96, "format": "MIXED", "compressionQuality": 75, "origin": { "x": -1.1710429999999933E8, "y": 3.048210191657948E10 }, "spatialReference": { "wkid": 102748, "latestWkid": 2285, "xyTolerance": 2.7161954034031303E-5, "zTolerance": 2, "mTolerance": 2, "falseX": -1.1710429999999933E8, "falseY": -9.95395999999976E7, "xyUnits": 294529.61999629234, "falseZ": 0, "zUnits": 1, "falseM": 0, "mUnits": 1 }, "lods": [ { "level": 0, "resolution": 227.55555555555554, "scale": 262144 }, { "level": 1, "resolution": 113.77777777777777, "scale": 131072 }, { "level": 2, "resolution": 56.888888888888886, "scale": 65536 }, { "level": 3, "resolution": 28.444444444444443, "scale": 32768 }, { "level": 4, "resolution": 14.222222222222221, "scale": 16384 }, { "level": 5, "resolution": 7.111111111111111, "scale": 8192 }, { "level": 6, "resolution": 3.5555555555555554, "scale": 4096 }, { "level": 7, "resolution": 1.7777777777777777, "scale": 2048 }, { "level": 8, "resolution": 0.8888888888888888, "scale": 1024 }, { "level": 9, "resolution": 0.4444444444444444, "scale": 512 }, { "level": 10, "resolution": 0.2222222222222222, "scale": 256 } ] }, "storageInfo": { "storageFormat": "esriMapCacheStorageModeCompactV2", "packetSize": 128 }, "initialExtent": { "xmin": 1273497.796696504, "ymin": 235225.65192910182, "xmax": 1334197.259587129, "ymax": 274666.5698978519, "spatialReference": { "wkid": 102748, "latestWkid": 2285, "xyTolerance": 2.7161954034031303E-5, "zTolerance": 2, "mTolerance": 2, "falseX": -1.1710429999999933E8, "falseY": -9.95395999999976E7, "xyUnits": 294529.61999629234, "falseZ": 0, "zUnits": 1, "falseM": 0, "mUnits": 1 } }, "fullExtent": { "xmin": 1243346.5079737157, "ymin": 215095.2667852193, "xmax": 1367157.0323338062, "ymax": 294956.8153951466, "spatialReference": { "wkid": 102748, "latestWkid": 2285, "xyTolerance": 2.7161954034031303E-5, "zTolerance": 2, "mTolerance": 2, "falseX": -1.1710429999999933E8, "falseY": -9.95395999999976E7, "xyUnits": 294529.61999629234, "falseZ": 0, "zUnits": 1, "falseM": 0, "mUnits": 1 } }, "datesInUnknownTimezone": false, "minScale": 262144, "maxScale": 256, "minLOD": 0, "maxLOD": 10, "units": "esriFeet", "supportedImageFormatTypes": "PNG32,PNG24,PNG,JPG,DIB,TIFF,EMF,PS,PDF,GIF,SVG,SVGZ,BMP", "documentInfo": { "Title": "Kirkland_Gray_Canvas_Basemap", "Author": "", "Comments": "

Kirkland Gray Canvas Basemap<\/SPAN><\/P><\/DIV><\/DIV><\/DIV>", "Subject": "Kirkland Gray Canvas Basemap", "Category": "", "Version": "2.6.0", "AntialiasingMode": "Fast", "TextAntialiasingMode": "Force", "Keywords": "City of Kirkland,Kirkland Gray Canvas Basemap" }, "supportsQueryDomains": true, "capabilities": "Map,Query,Data", "supportedQueryFormats": "JSON, geoJSON, PBF", "hasVersionedData": true, "exportTilesAllowed": false, "referenceScale": 0.0, "datumTransformations": [ { "geoTransforms": [ { "wkid": 1501, "latestWkid": 1501, "transformForward": false, "name": "NAD_1983_To_HARN_WA_OR" } ] }, { "geoTransforms": [ { "wkid": 1501, "latestWkid": 1501, "transformForward": true, "name": "NAD_1983_To_HARN_WA_OR" } ] } ], "supportsDatumTransformation": true, "archivingInfo": {"supportsHistoricMoment": false}, "supportsClipping": true, "supportsSpatialFilter": true, "supportsTimeRelation": true, "supportsQueryDataElements": true, "mapUnits": {"uwkid": 9003}, "maxRecordCount": 2000, "maxImageHeight": 4096, "maxImageWidth": 4096, "supportedExtensions": "", "resampling": false, "serviceItemId": "ab0c4ae561b2410983239b8bd08a4e75" }